BEGIN:VCALENDAR
VERSION:2.0
PRODID:-//eventon.com NONSGML v1.0//EN
BEGIN:VEVENT
UID:69e7316e144c0
DTSTAMP:20260421T101230
DTSTART:20251106T070000Z
DTEND:20251106T140000Z
LOCATION:
SUMMARY:Webinar online: Dobre praktyki pomiaru temperatury kroplenia
DESCRIPTION: Najlepsze praktyki dotyczące codziennych pomiarów temperatury kroplenia 6 listopada 2025\,  9:00 i 16:00 Zarejestruj się Przegląd programu: - Dowiedz się więcej o programie METTLER TOLEDO Good Measuring Practice\,  który poprawia jakość pomiarów w całym cyklu życia urządzenia. - Poznaj teoretyczne podstawy technik pomiaru temperatury kroplenia i mięknienia. - Poznaj ważne[..]
END:VEVENT
END:VCALENDAR